Workbook

Sheet 103
A1: UBND XÃ KHOÁI CHÂU | C1: Biểu số 103/CK TC-NSNN
A2: CÂN ĐỐI DỰ TOÁN NGÂN SÁCH XÃ NĂM 2026
A3: (Kèm theo quyết định số 2698/QĐ-UBND ngày 29/12/2025 Của UBND xã Khoái Châu)
D4: Đơn vị: đồng
A5: NỘI DUNG THU | B5: DỰ TOÁN | C5: NỘI DUNG CHI | D5: DỰ TOÁN
A6: TỔNG SỐ THU | B6: =B7+B8+B9+B13+B14 -> 653819000000 | C6: TỔNG SỐ CHI | D6: =D7+D8+D9+D10+D11 -> 653819000000
A7: I. Các khoản thu xã hưởng 100% | B7: 10640000000 | C7: I. Chi đầu tư phát triển | D7: 300000000000
A8: II. Các khoản thu phân chia theo tỷ lệ (1) | B8: 312290000000 | C8: II. Chi thường xuyên | D8: 280554000000
A9: III. Thu bổ sung | B9: =B10+B11+B12 -> 330889000000 | C9: III. Dự phòng | D9: 7670000000
A10: - Bổ sung cân đối | B10: 265294000000 | C10: IV. Chi từ nguồn bổ sung có mục tiêu từ ngân sách cấp trên | D10: 31445000000
A11: - Bổ sung có mục tiêu vốn sự nghiệp | B11: 31445000000 | C11: V. Chi từ nguồn bổ sung có mục tiêu từ nguồn CCTL ngân sách tỉnh để thực hiện các chính sách an sinh xã hội | D11: 34150000000
A12: - Bổ sung có mục tiêu để thực hiện các chính sách an sinh xã hội năm 2026 từ nguồn cải cách tiền lương ngân sách cấp tỉnh | B12: 34150000000
A13: IV. Thu chuyển nguồn
A14: V. Thu từ nguồn đất
A15: Ghi chú: (1) Bao gồm 4 khoản thu từ thuế, lệ phí luật NSNN quy định cho ngân sách xã hưởng và những khoản thu ngân sách địa phương được hưởng có phân chia theo tỷ lệ phần trăm ( %) cho xã.

Sheet 104
A1: UBND XÃ KHOÁI CHÂU | F1: Biểu số 104/CK TC-NSNN
A2: DỰ TOÁN THU NGÂN SÁCH XÃ NĂM 2026
A3: ='103'!A3:D3 -> (Kèm theo quyết định số 2698/QĐ-UBND ngày 29/12/2025 Của UBND xã Khoái Châu)
F4: Đơn vị: đồng
A5: STT | B5: NỘI DUNG | C5: DỰ TOÁN NĂM TRƯỚC | E5: DỰ TOÁN NĂM 2026 | G5: SO SÁNH (%)
C6: THU NSNN | D6: THU NSX | E6: THU NSNN | F6: THU NSX | G6: THU NSNN | H6: THU NSX
A7: A | B7: B | C7: 1 | D7: 2 | E7: 3 | F7: 4 | G7: 5=3/1 | H7: 6=4/2
B8: TỔNG THU NSNN TRÊN ĐỊA BÀN ( A+B+C+D) | C8: =C9+C33+C37+C38 -> 317287461371 | D8: =D9+D33+D37+D38 -> 317287461371 | E8: =E9+E33+E37+E38 -> 808905000000 | F8: =F9+F33+F37+F38 -> 653819000000 | G8: =E8/C8*100 -> 254.94389 | H8: =F8/D8*100 -> 206.06519
A9: A | B9: THU NGÂN SÁCH NHÀ NƯỚC | C9: =C10+C21+C32 -> 274816461371 | D9: =D10+D21+D32 -> 274816461371 | E9: =E10+E21+E32 -> 478016000000 | F9: =F10+F21+F32 -> 322930000000
A10: I | B10: Các khoản thu 100% | C10: =SUM(C11:C20) -> 4061000000 | D10: =SUM(D11:D20) -> 4061000000 | E10: =SUM(E11:E20) -> 10640000000 | F10: =SUM(F11:F20) -> 10640000000 | G10: =E10/C10*100 -> 262.00443 | H10: =F10/D10*100 -> 262.00443
A11: - | B11: Thuế sử dụng đất phi nông nghiệp | C11: =D11 -> 940000000 | D11: 940000000 | E11: =F11 -> 1000000000 | F11: 1000000000
A12: - | B12: Phí, lệ phí | C12: =D12 -> 77000000 | D12: 77000000 | E12: =F12 -> 120000000 | F12: 120000000 | G12: =E12/C12*100 -> 155.84416 | H12: =F12/D12*100 -> 155.84416
A13: - | B13: Thu từ quỹ đất công ích và thu hoa lợi công sản khác | C13: =D13 -> 1520000000 | D13: 1520000000 | E13: =F13 -> 1520000000 | F13: 1520000000 | G13: =E13/C13*100 -> 100 | H13: =F13/D13*100 -> 100
A14: - | B14: Khu vực CTN-DV NQD | C14: =D14 -> 1524000000 | D14: 1524000000 | E14: =F14 -> 8000000000 | F14: 8000000000 | H14: =F14/D14*100 -> 524.93438
A15: - | B15: Thu từ hoạt động kinh tế và sự nghiệp | C15: =D15 -> 0 | E15: =F15 -> 0
A16: - | B16: Thu phạt, tịch thu khác theo quy định | C16: =D16 -> 0 | E16: =F16 -> 0
A17: - | B17: Thu từ tài sản được xác lập quyền sở hữu của nhà nước theo quy định | C17: =D17 -> 0 | E17: =F17 -> 0
A18: - | B18: Đóng góp của nhân dân theo quy định | C18: =D18 -> 0 | E18: =F18 -> 0
A19: - | B19: Đóng góp tự nguyện của các tổ chức, cá nhân | C19: =D19 -> 0 | E19: =F19 -> 0
A20: - | B20: Thu khác | C20: =D20 -> 0 | E20: =F20 -> 0
A21: II | B21: Các khoản thu phân chia theo tỷ lệ phần trăm (%) | C21: =C22+C25+C28+C29+C30+C31 -> 270755461371 | D21: =D22+D25+D28+D29+D30+D31 -> 270755461371 | E21: =E22+E25+E28+E29+E30+E31 -> 467376000000 | F21: =F22+F25+F28+F29+F30+F31 -> 312290000000 | G21: =E21/C21*100 -> 172.61923 | H21: =F21/D21*100 -> 115.34024
A22: - | B22: Thuế thu nhập cá nhân | C22: =C23+C24 -> 1512000000 | D22: =D23+D24 -> 1512000000 | E22: =E23+E24 -> 9200000000 | F22: =F23+F24 -> 4640000000
B23: Thu thu nhập cá nhân từ hoạt động kinh doanh cá nhân | C23: =D23 -> 0 | E23: =F23 -> 3500000000 | F23: 3500000000
B24: Thu thu nhập cá nhân từ hoạt động chuyển nhượng bất động sản | C24: =D24 -> 1512000000 | D24: 1512000000 | E24: 5700000000 | F24: 1140000000
A25: - | B25: Lệ phí trước bạ | C25: =C26+C27 -> 600000000 | D25: =D26+D27 -> 600000000 | E25: 17000000000 | F25: =F26+F27 -> 7650000000
B26: Lệ phí trước bạ nhà, đất | C26: =D26 -> 600000000 | D26: 600000000 | E26: 8500000000 | F26: 5100000000
B27: Lệ phí trước bạ tài sản khác | C27: =D27 -> 0 | E27: 8500000000 | F27: 2550000000
A28: - | B28: Thu đấu giá QSD đất | C28: =D28 -> 268203461371 | D28: 268203461371 | E28: 441176000000 | F28: 300000000000 | G28: =E28/C28*100 -> 164.49303 | H28: =F28/D28*100 -> 111.85538
A29: - | B29: Tiền thuê đất, mặt nước | C29: =D29 -> 440000000 | D29: 440000000 | E29: =F29 -> 0 | G29: =E29/C29*100 -> 0 | H29: =F29/D29*100 -> 0
A30: - | B30: Thuế tài nguyên | C30: =D30 -> 0
A31: - | B31: Thu khác NS | C31: =D31 -> 0
A32: III | B32: Thu các khoản huy động, đóng góp
A33: B | B33: THU BỔ SUNG TỪ NS CẤP TRÊN | C33: =C34+C35+C36 -> 42471000000 | D33: =D34+D35+D36 -> 42471000000 | E33: =E34+E35+E36 -> 330889000000 | F33: =F34+F35+F36 -> 330889000000
A34: - | B34: Bổ sung cân đối | C34: =D34 -> 42471000000 | D34: 42471000000 | E34: =F34 -> 265294000000 | F34: 265294000000
A35: - | B35: Bổ sung có mục tiêu vốn sự nghiệp | C35: =D35 -> 0 | E35: =F35 -> 31445000000 | F35: 31445000000
A36: - | B36: Bổ sung có mục tiêu để thực hiện các chính sách an sinh xã hội năm 2026 từ nguồn cải cách tiền lương ngân sách cấp tỉnh | C36: =D36 -> 0 | E36: =F36 -> 34150000000 | F36: 34150000000
A37: C | B37: THU CHUYỂN NGUỒN
A38: D | B38: THU KẾT DƯ NGÂN SÁCH

Sheet 105
A1: UBND XÃ KHOÁI CHÂU | E1: Biểu số 105/CK TC-NSNN
A2: DỰ TOÁN CHI NGÂN SÁCH XÃ NĂM 2026
A3: ='103'!A3:D3 -> (Kèm theo quyết định số 2698/QĐ-UBND ngày 29/12/2025 Của UBND xã Khoái Châu)
E4: Đơn vị: đồng
A5: STT | B5: NỘI DUNG | C5: DỰ TOÁN NĂM TRƯỚC | F5: DỰ TOÁN NĂM 2026 | I5: SO SÁNH (%)
C6: TỔNG SỐ | D6: ĐTPT | E6: CHI TX | F6: TỔNG SỐ | G6: ĐTPT | H6: CHI TX | I6: TỔNG SỐ | J6: ĐTPT | K6: CHI TX
A7: A | B7: B | C7: 1 | D7: 2 | E7: 3 | F7: 4 | G7: 5 | H7: 6 | I7: 7=4/1 | J7: 8=5/2 | K7: 9=6/3
B8: TỔNG CHI | C8: =D8+E8 -> 317287461371 | D8: =D9+D10+D53+D54+D58 -> 268203461371 | E8: =E9+E10+E53+E54+E58 -> 49084000000 | F8: =F9+F10+F53+F54+F58 -> 653819000000 | G8: =G9 -> 300000000000 | H8: =H10+H53+H54+H58 -> 353819000000 | I8: =F8/C8 -> 2.0606519 | J8: =G8/D8 -> 1.1185538 | K8: =H8/E8 -> 7.2084386
A9: I | B9: Chi đầu tư phát triển | D9: 268203461371 | F9: =G9+H9 -> 300000000000 | G9: 300000000000 | J9: =G9/D9 -> 1.1185538
A10: II | B10: Chi thường xuyên | C10: =D10+E10 -> 46834000000 | E10: =E11+E12+E13+E16+E17+E21+E22+E23+E24+E29+E46+E47+E48+E49+E50+E51+E52 -> 46834000000 | F10: =G10+H10 -> 280554000000 | H10: =H11+H12+H13+H16+H17+H21+H22+H23+H24+H29+H46+H47+H48+H49+H50+H51 -> 280554000000 | I10: =F10/C10 -> 5.9903916 | K10: =H10/E10 -> 5.9903916
A11: 1 | B11: Chi Quốc phòng | C11: =D11+E11 -> 1469220138 | E11: 1469220138 | F11: =G11+H11 -> 936301200 | H11: 936301200 | I11: =F11/C11 -> 0.63727768 | K11: =H11/E11 -> 0.63727768
A12: 2 | B12: Chi an ninh và trật tự an toàn xã hội | C12: =D12+E12 -> 861978400 | E12: 861978400 | F12: =G12+H12 -> 171000000 | H12: 171000000 | I12: =F12/C12 -> 0.19838084 | K12: =H12/E12 -> 0.19838084
A13: 3 | B13: Chi sự nghiệp giáo dục - đào tạo và dạy nghề | C13: =D13+E13 -> 48544600 | E13: =E14+E15 -> 48544600 | F13: =G13+H13 -> 151717000000 | H13: =H14+H15 -> 151717000000 | I13: =F13/C13 -> 3125.3116 | K13: =H13/E13 -> 3125.3116
A14: 3.1 | B14: Giáo dục | C14: =D14+E14 -> 48544600 | E14: 48544600 | F14: =G14+H14 -> 151025000000 | H14: 151025000000 | I14: =F14/C14 -> 3111.0566 | K14: =H14/E14 -> 3111.0566
A15: 3.2 | B15: Trung tâm chính trị Khoái Châu | F15: =G15+H15 -> 692000000 | H15: 692000000
A16: 4 | B16: Sự nghiệp khoa học, công nghệ, đổi mới sáng tạo và chuyển đổi số | F16: =G16+H16 -> 1295000000 | H16: 1295000000
A17: 5 | B17: Sự nghiệp y tế, dân số và gia đình | C17: =D17+E17 -> 429606000 | E17: 429606000 | F17: =G17+H17 -> 20451383200 | H17: =H18+H19+H20 -> 20451383200 | I17: =F17/C17 -> 47.604976 | K17: =H17/E17 -> 47.604976
A18: 5.1 | B18: Hỗ trợ mua thẻ BHYT, đóng BHXH tự nguyện cho các đối tượng | F18: =G18+H18 -> 12043000000 | H18: 12043000000
A19: 5.2 | B19: Trạm Y tế cấp xã | F19: =G19+H19 -> 8378383200 | H19: 8378383200
A20: 5.3 | B20: Chi hoạt động nhiệm vụ chuyên môn (phòng văn hóa) | F20: =G20+H20 -> 30000000 | H20: 30000000
A21: 6 | B21: Sự nghiệp văn hóa thông tin, thể dục thể thao, phát thanh, truyền hình | C21: =D21+E21 -> 1393714722 | E21: =1120442846+124751876+148520000 -> 1393714722 | F21: =G21+H21 -> 1293962000 | H21: 1293962000 | I21: =F21/C21 -> 0.92842673 | K21: =H21/E21 -> 0.92842673
A22: 7 | B22: Sự nghiệp bảo vệ môi trường | C22: =D22+E22 -> 130000000 | E22: 130000000 | F22: =G22+H22 -> 2294000000 | H22: 2294000000 | I22: =F22/C22 -> 17.646154 | K22: =H22/E22 -> 17.646154
A23: 8 | B23: Sự nghiệp bảo đảm xã hội | C23: =D23+E23 -> 2077062900 | E23: 2077062900 | F23: =G23+H23 -> 27058653000 | H23: 27058653000 | I23: =F23/C23 -> 13.027363 | K23: =H23/E23 -> 13.027363
A24: 9 | B24: Các hoạt động kinh tế | C24: =D24+E24 -> 550800700 | E24: =E25+E26+E27+E28 -> 550800700 | F24: =G24+H24 -> 4803281200 | H24: =H25+H26++H27+H28 -> 4803281200 | I24: =F24/C24 -> 8.720543 | K24: =H24/E24 -> 8.720543
A25: 9.1 | B25: Sự nghiệp giao thông | C25: =D25+E25 -> 131126000 | E25: 131126000 | F25: =G25+H25 -> 1498000000 | H25: 1498000000 | I25: =F25/C25 -> 11.424126 | K25: =H25/E25 -> 11.424126
A26: 9.2 | B26: Sự nghiệp nông nghiệp, khuyến nông, khuyến công, khuyến ngư, khuyến diêm, thủy lợi nội đồng; phòng chống lụt bão, thiên tai, phòng chống dịch bệnh | C26: =D26+E26 -> 389674700 | E26: =305521100+84153600 -> 389674700 | F26: =G26+H26 -> 945281200 | H26: 945281200 | I26: =F26/C26 -> 2.4258213 | K26: =H26/E26 -> 2.4258213
A27: 9.3 | B27: Sự nghiệp kiến thiết thị chính, tài nguyên địa chính (gồm cả khảo sát giá đất), sự nghiệp kinh tế khác | C27: =D27+E27 -> 30000000 | E27: 30000000 | F27: =G27+H27 -> 2110000000 | H27: 2110000000 | I27: =F27/C27 -> 70.333333 | K27: =H27/E27 -> 70.333333
A28: 9.4 | B28: Kinh phí hỗ trợ hoạt động bảo vệ đất trồng lúa theo Nghị quyết số 775/2025/NQ-HĐND của HĐND tỉnh | C28: =D28+E28 -> 0 | F28: =G28+H28 -> 250000000 | H28: 250000000
A29: 10 | B29: Quản lý hành chính nhà nước, đảng, đoàn thể | C29: =D29+E29 -> 34276602643 | E29: =E30+E35+E36+E37+E43 -> 34276602643 | F29: =G29+H29 -> 40545419400 | H29: =H30+H35+H36+H37+H43 -> 40545419400 | I29: =F29/C29 -> 1.1828891 | K29: =H29/E29 -> 1.1828891
A30: 10.1 | B30: Quản lý nhà nước | C30: =D30+E30 -> 18292536853 | E30: =E31+E32+E33+E34 -> 18292536853 | F30: =G30+H30 -> 17752660400 | H30: =H31+H32+H33+H34 -> 17752660400 | I30: =F30/C30 -> 0.97048652 | K30: =H30/E30 -> 0.97048652
A31: * | B31: Văn phòng HĐND-UBND | C31: =D31+E31 -> 17341555853 | E31: =14077936453+2568660000+694959400 -> 17341555853 | F31: =G31+H31 -> 10014660400 | H31: 10014660400 | I31: =F31/C31 -> 0.57749492 | K31: =H31/E31 -> 0.57749492
A32: * | B32: Quỹ tiền lương, thưởng, phụ cấp, hoạt động phòng Kinh tế | C32: =D32+E32 -> 0 | F32: =G32+H32 -> 2922400000 | H32: 2922400000
A33: * | B33: Quỹ tiền lương, thưởng, phụ cấp, hoạt động phòng Văn hóa | C33: =D33+E33 -> 0 | F33: =G33+H33 -> 2649200000 | H33: 2649200000
A34: * | B34: Trung tâm hành chính công | C34: =D34+E34 -> 950981000 | E34: 950981000 | F34: =G34+H34 -> 2166400000 | H34: 2166400000 | I34: =F34/C34 -> 2.2780686 | K34: =H34/E34 -> 2.2780686
A35: 10.2 | B35: Hội đồng nhân dân | F35: =G35+H35 -> 1466000000 | H35: 1466000000 | I35: =F35/C35 -> #DIV/0! | K35: =H35/E35 -> #DIV/0!
A36: 10.3 | B36: Đảng | C36: =E36 -> 8914969466 | E36: 8914969466 | F36: =G36+H36 -> 12802000000 | H36: 12802000000 | I36: =F36/C36 -> 1.4360116 | K36: =H36/E36 -> 1.4360116
A37: 10.4 | B37: MTTQ, các tổ chức chính trị - xã hội | C37: =D37+E37 -> 5878031624 | E37: =E38+E39+E40+E41+E42 -> 5878031624 | F37: =G37+H37 -> 7359000000 | H37: =H38+H39+H40+H41+H42 -> 7359000000 | I37: =F37/C37 -> 1.2519497 | K37: =H37/E37 -> 1.2519497
A38: * | B38: Mặt trận tổ quốc | C38: =D38+E38 -> 4898711624 | E38: 4898711624 | F38: =G38+H38 -> 5093169000 | H38: 5093169000 | I38: =F38/C38 -> 1.0396956 | K38: =H38/E38 -> 1.0396956
A39: * | B39: Đoàn Thanh niên | C39: =D39+E39 -> 287010000 | E39: 287010000 | F39: =G39+H39 -> 634104000 | H39: 634104000 | I39: =F39/C39 -> 2.2093446 | K39: =H39/E39 -> 2.2093446
A40: * | B40: Hội Phụ nữ | C40: =D40+E40 -> 215950000 | E40: 215950000 | F40: =G40+H40 -> 544104000 | H40: 544104000 | I40: =F40/C40 -> 2.5195832 | K40: =H40/E40 -> 2.5195832
...

Sheet 106
B1: UBND XÃ KHOÁI CHÂU | H1: Biểu số 106/CK TC-NSNN
B2: DỰ TOÁN CHI ĐẦU TƯ PHÁT TRIỂN NĂM 2026
B3: (Kèm theo quyết định số 2698/QĐ-UBND ngày 29/12/2025 Của UBND xã Khoái Châu)
H4: Đơn vị: đồng
B5: Tên công trình | C5: Thời gian khởi công - hoàn thành | D5: Tổng dự toán được duyệt | F5: Giá trị thực hiện đến 31/12/2025 | G5: Giá trị đã thanh toán đến 31/12/2025 | H5: Dự toán năm 2026
D6: Tổng số | E6: Trong đó nguồn đóng góp của dân | H6: Tổng số | I6: Trong đó thanh toán khối lương năm trước | J6: Chia theo nguồn vốn
J7: Nguồn cân đối ngân sách | K7: Nguồn đóng góp
B8: TỔNG SỐ | D8: =D9+D38 -> 995184000000 | H8: =H9+H38 -> 300000000000 | I8: =I9+I38 -> 0 | J8: =J9+J38 -> 300000000000
A9: I | B9: Dự án hoàn thành | D9: =SUM(D10:D37) -> 155431000000 | H9: =SUM(H10:H37) -> 35844000000 | I9: =SUM(I10:I37) -> 0 | J9: =SUM(J10:J37) -> 35844000000
A10: 1 | B10: Xây dựng trụ sở làm việc công an xã Liên Khê, huyện Khoái Châu | C10: 2023-2025 | D10: 14950000000 | H10: =J10 -> 4300000000 | J10: 4300000000
A11: 2 | B11: Cải tạo, nâng cấp đường GTNT xã Đông Kết ( đoạn từ ngã tư ông Lợi thôn Đông Kết đi xóm 5 thôn Trung Châu) | C11: 2024-2025 | D11: 13500000000 | H11: =J11 -> 2000000000 | J11: 2000000000
A12: 3 | B12: Nâng cấp đường và xây mới kênh tiêu thoát nước đoạn từ nhà Oanh Lượng thôn Trung Châu đi KT12 | C12: 2024 | D12: 5000000000 | H12: =J12 -> 1000000000 | J12: 1000000000
A13: 4 | B13: Sửa chữa đường giao thông nội đồng đoạn Đồng Rùa từ KT14 thôn Lạc Thủy đi ruộng xóm 15 thôn Đông Kết | C13: 2024-2025 | D13: 650000000 | H13: =J13 -> 150000000 | J13: 150000000
A14: 5 | B14: CTNC một số tuyến đường GTNT xã Đông Kết, đoạn 1 từ ruộng nhà ông Ninh đến trục đường trục xóm 22 thôn Hồng Thái, đoạn 2 từ ruộng ông Khương đến đường trục thôn Đi Kênh tây và thôn Hồng Thái, đoạn 3 cải tạo rãnh nước khu gốc đa đường 383 dọc theo chiều dài nhà ông Doanh) | C14: 2025 | D14: 500000000 | H14: =J14 -> 450000000 | J14: 450000000
A15: 6 | B15: Duy tu, sửa chữa đường GTNĐ thôn Kênh Hạ, xã Liên Khê, đoạn từ cống tiêu Mào Gà đi ruộng ông Tài | C15: 2025 | D15: 1500000000 | H15: =J15 -> 700000000 | J15: 700000000
A16: 7 | B16: Duy tu, sửa chữa đường nội đồng xã Đông Kết đoạn KT14 Đồng Sống đi Cừ Liên Khê thôn Lạc Thuỷ | C16: 2024-2025 | D16: 1300000000 | H16: =J16 -> 500000000 | J16: 500000000
A17: 8 | B17: Duy tu, sửa chữa đường GTNĐ đoạn từ trục thôn Lạc Thuỷ ruộng Đồng Bói đi cử Liên Khê và ao công điền thôn Lạc Thuỷ xã Đông Kết | C17: 2024-2025 | D17: 7300000000 | H17: =J17 -> 30000000 | J17: 30000000
A18: 9 | B18: Sửa chữa NVH phùng Hưng | C18: 2023 | D18: 700000000 | H18: =J18 -> 665000000 | J18: 665000000
A19: 10 | B19: Nhà vệ sinh trường THCS Phùng Hưng | C19: 2022-2023 | D19: 1197000000 | H19: =J19 -> 800000000 | J19: 800000000
A20: 11 | B20: Nhà truyền thống trường THCS xã Phùng Hưng | C20: 2023 | D20: 2000000000 | H20: =J20 -> 1100000000 | J20: 1100000000
A21: 12 | B21: Đầu tư xây dựng cầu vào thôn Tiểu Quan, xã Phùng Hưng | C21: 2022-2024 | D21: 12585000000 | H21: =J21 -> 2185000000 | J21: 2185000000
A22: 13 | B22: Đầu tư xây dựng cầu thôn Kim Quan xã Phùng Hưng | C22: 2022-2024 | D22: 11931000000 | H22: =J22 -> 1086000000 | J22: 1086000000
A23: 14 | B23: Cải tạo, nâng cấp tuyến đường giao thông nội đồng đường Đỗi Đá xóm Trầm, thôn Tiểu Quan, xã Phùng Hưng | C23: 2024 | D23: 900000000 | H23: =J23 -> 344000000 | J23: 344000000
A24: 15 | B24: Cải tạo, nâng cấp tuyến đường giao thông nội đồng đoạn nối từ đường Vành Khanh đến đường bờ máng Xóm Trại, thôn Thị Tứ, xã Phùng Hưng | C24: 2024 | D24: 9000000000 | H24: =J24 -> 855000000 | J24: 855000000
A25: 16 | B25: Cải tạo, nâng cấp đường GTNT xã Phùng Hưng (Đoạn từ nhà cụ Lê Tiến Xưong đến nhà ông Mạnh; Tuyến đường Đỗi Nhội, đoạn từ nhà ông bà Kha Quế đến ĐT.384; Đoạn từ giếng xóm 1 đến bờ máng kênh đông) | C25: 2023-2024 | D25: 12488000000 | H25: =J25 -> 5495000000 | J25: 5495000000
A26: 17 | B26: Cải tạo, nâng cấp đường GTNT xã Phùng Hưng (Đoạn từ cổng chợ Tiểu Quan đến nhà Thụ Đóa; Đoạn từ nhà ông Thụy đến trường mầm non xóm 4; Đoạn từ đình làng Tiểu Quan đi bờ máng Kênh Đông Xóm 4) | C26: 2023-2024 | D26: 13500000000 | H26: =J26 -> 6200000000 | J26: 6200000000
A27: 18 | B27: Sửa chữa đường giao thông nội đồng xã Phùng Hưng (tuyến đường máng hai thôn Ngọc Nha Hạ điểm đầu bờ máng kênh Đông điểm cuối Đống Mít) | C27: 2024-2025 | D27: 2219000000 | H27: =J27 -> 800000000 | J27: 800000000
A28: 19 | B28: Sửa chữa đường GT nội đồng xã Phùng Hưng (đoạn từ đường trục Nội Giàn đến Bầu Nam thôn Kim Quan). | C28: 2024-2025 | D28: 1298000000 | H28: =J28 -> 70000000 | J28: 70000000
A29: 20 | B29: Nhà văn hóa thôn An Cảnh xã Bình Kiều | C29: 2023-2024 | D29: 5000000000 | H29: =J29 -> 51000000 | J29: 51000000
A30: 21 | B30: Nhà văn hóa thôn Phú hòa xã Bình Kiều | C30: 2022-2024 | D30: 5000000000 | H30: =J30 -> 2515000000 | J30: 2515000000
A31: 22 | B31: Xây dựng nhà lớp học 3 tầng 14 phòng và các hạng mục phụ trợ Trường Tiểu Học thị trấn Khoái Châu | C31: 2022-2024 | D31: 13376000000 | H31: =J31 -> 1558000000 | J31: 1558000000
A32: 23 | B32: Xây dựng nhà lớp học 2 tầng và các hạng mục phụ trợ trường mầm non Thị Trấn Khoái Châu | C32: 2022-2024 | D32: 12800000000 | H32: =J32 -> 1893000000 | J32: 1893000000
A33: 24 | B33: Cải tạo, nâng cấp đường giao thông nội đồng xã Bình Kiều ( đoạn 1 từ ruộng nhà ông Hưng Phúc đến đầu cầu xóm 3 đội 11 giáp nhà bà Thiệu, đoạn 12 từ đường máng đội 9 hướng ra nghĩa trang) | C33: 2024 | D33: 1172000000 | H33: =J33 -> 11000000 | J33: 11000000
A34: 25 | B34: Cái tạo, nâng cấp dường giao thông nội đồng xã Bình Kiều (đoạn 1 từ ruộng nhà ông Hiệp đến đường ngang đội 7 thôn an Cảnh, đoạn 2 từ ruộng nhà bà Lũy ra đường Sông Mười) | C34: 2024 | D34: 1179000000 | H34: =J34 -> 11000000 | J34: 11000000
A35: 26 | B35: Phá dỡ nhà lớp học 2 tầng 8 phòng trường tiểu học TTKC | C35: 2024-2025 | D35: 350000000 | H35: =J35 -> 3000000 | J35: 3000000
A36: 27 | B36: Cải tạo, nâng cấp đường GTNT xã Bình Kiều ( đoạn từ đầu làng thôn An Cảnh đến nhà ông Tràng Áp lạc thủy xã Đông Kết) | C36: 2018-2020 | D36: 2386000000 | H36: =J36 -> 1056000000 | J36: 1056000000
A37: 28 | B37: Cải tạo, nâng cấp rãnh thoát nước đường giao thông Thị Trấn Khoái châu (đoạn từ nhà ông Đông đến bở ván) | C37: 2023-2025 | D37: 1650000000 | H37: =J37 -> 16000000 | J37: 16000000
A38: II | B38: Dự án chuyển tiếp hoàn thành năm 2026 | D38: =SUM(D39:D98) -> 839753000000 | H38: =SUM(H39:H98) -> 264156000000 | I38: =SUM(I39:I98) -> 0 | J38: =SUM(J39:J98) -> 264156000000
A39: 1 | B39: Xây dựng nhà 3 tầng 12 phòng học và một số hạng mục phụ trợ trường THCS Đông Kết | C39: 2022-2025 | D39: 25000000000 | H39: =J39 -> 2000000000 | J39: 2000000000
A40: 2 | B40: Cải tạo nâng cấp đường GTNT xã Liên Khê ( đoạn 2 từ dốc Kênh đi cống Mốc đá đường ĐH 59) | C40: 2024-2025 | D40: 13000000000 | H40: =J40 -> 2000000000 | J40: 2000000000
...

Sheet 107
A1: UBND XÃ KHOÁI CHÂU | D1: Biểu số 107/CK TC-NSNN
A2: KẾ HOẠCH THU, CHI CÁC HOẠT ĐỘNG TÀI CHÍNH KHÁC NĂM 2026.
A3: (Kèm theo quyết định số 2698/QĐ-UBND ngày 29/12/2025 Của UBND xã Khoái Châu)
D4: Đơn vị: đồng
A5: NỘI DUNG | B5: KẾ HOẠCH NĂM TRƯỚC | E5: KẾ HOẠCH NĂM 2026
B6: THU | C6: CHI | D6: CHÊNH LỆCH | E6: THU | F6: CHI | G6: CHÊNH LỆCH
A7: TỔNG SỐ | B7: =B8 -> 0 | C7: =C8 -> 0 | D7: =D8 -> 0 | E7: =E8 -> 0 | F7: =F8 -> 0 | G7: =G8 -> 0
A8: Quỹ Phòng chống thiên tai
A9: Quỹ vì người nghèo

Sheet 108
A1: UBND XÃ KHOÁI CHÂU | C1: Biểu số 108/CK TC-NSNN
A2: CÂN ĐỐI DỰ TOÁN NGÂN SÁCH XÃ NĂM 2026
A3: (Kèm theo quyết định số 2698/QĐ-UBND ngày 29/12/2025 Của UBND xã Khoái Châu)
D4: Đơn vị: đồng
A5: NỘI DUNG THU | B5: DỰ TOÁN | C5: NỘI DUNG CHI | D5: DỰ TOÁN
A6: TỔNG SỐ THU | B6: =B7+B8+B9+B13+B14 -> 653819000000 | C6: TỔNG SỐ CHI | D6: =D7+D8+D9+D10+D11 -> 653819000000
A7: I. Các khoản thu xã hưởng 100% | B7: 10640000000 | C7: I. Chi đầu tư phát triển | D7: 300000000000
A8: II. Các khoản thu phân chia theo tỷ lệ | B8: 312290000000 | C8: II. Chi thường xuyên | D8: 280554000000
A9: III. Thu bổ sung | B9: =B10+B11+B12 -> 330889000000 | C9: III. Dự phòng | D9: 7670000000
A10: - Bổ sung cân đối | B10: 265294000000 | C10: IV. Chi từ nguồn bổ sung có mục tiêu từ ngân sách cấp trên | D10: 31445000000
A11: - Bổ sung có mục tiêu vốn sự nghiệp | B11: 31445000000 | C11: V. Chi từ nguồn bổ sung có mục tiêu từ nguồn CCTL ngân sách tỉnh để thực hiện các chính sách an sinh xã hội | D11: 34150000000
A12: - Bổ sung có mục tiêu để thực hiện các chính sách an sinh xã hội năm 2026 từ nguồn cải cách tiền lương ngân sách cấp tỉnh | B12: 34150000000
A13: IV. Thu chuyển nguồn
A14: V. Thu từ nguồn đất

Sheet 109
A1: UBND XÃ KHOÁI CHÂU | C1: Biểu số 109/CK TC-NSNN
A2: DỰ TOÁN THU NGÂN SÁCH XÃ NĂM 2026
A3: (Kèm theo quyết định số 2698/QĐ-UBND ngày 29/12/2025 Của UBND xã Khoái Châu)
C4: Đơn vị: đồng
A5: STT | B5: NỘI DUNG | C5: DỰ TOÁN NĂM 2026
C6: THU NSNN | D6: THU NSX
A7: A | B7: B | C7: 1 | D7: 2
B8: TỔNG THU NSNN TRÊN ĐỊA BÀN ( A+B+C+D) | C8: ='104'!E8 -> 808905000000 | D8: ='104'!F8 -> 653819000000
A9: A | B9: THU NGÂN SÁCH NHÀ NƯỚC | C9: ='104'!E9 -> 478016000000 | D9: ='104'!F9 -> 322930000000
A10: I | B10: Các khoản thu 100% | C10: ='104'!E10 -> 10640000000 | D10: ='104'!F10 -> 10640000000
A11: - | B11: Thuế sử dụng đất phi nông nghiệp | C11: ='104'!E11 -> 1000000000 | D11: ='104'!F11 -> 1000000000
A12: - | B12: Phí, lệ phí | C12: ='104'!E12 -> 120000000 | D12: ='104'!F12 -> 120000000
A13: - | B13: Thu từ quỹ đất công ích và thu hoa lợi công sản khác | C13: ='104'!E13 -> 1520000000 | D13: ='104'!F13 -> 1520000000
A14: - | B14: Khu vực CTN-DV NQD | C14: ='104'!E14 -> 8000000000 | D14: ='104'!F14 -> 8000000000
A15: - | B15: Thu từ hoạt động kinh tế và sự nghiệp | C15: ='104'!E15 -> 0 | D15: ='104'!F15 -> 0
A16: - | B16: Thu phạt, tịch thu khác theo quy định | C16: ='104'!E16 -> 0 | D16: ='104'!F16 -> 0
A17: - | B17: Thu từ tài sản được xác lập quyền sở hữu của nhà nước theo quy định | C17: ='104'!E17 -> 0 | D17: ='104'!F17 -> 0
A18: - | B18: Đóng góp của nhân dân theo quy định | C18: ='104'!E18 -> 0 | D18: ='104'!F18 -> 0
A19: - | B19: Đóng góp tự nguyện của các tổ chức, cá nhân | C19: ='104'!E19 -> 0 | D19: ='104'!F19 -> 0
A20: - | B20: Thu khác | C20: ='104'!E20 -> 0 | D20: ='104'!F20 -> 0
... A22: - | B22: Thuế thu nhập cá nhân | C22: ='104'!E22 -> 9200000000 | D22: ='104'!F22 -> 4640000000
B23: Thu thu nhập cá nhân từ hoạt động kinh doanh cá nhân | C23: ='104'!E23 -> 3500000000 | D23: ='104'!F23 -> 3500000000
B24: Thu thu nhập cá nhân từ hoạt động chuyển nhượng bất động sản | C24: ='104'!E24 -> 5700000000 | D24: ='104'!F24 -> 1140000000
A25: - | B25: Lệ phí trước bạ | C25: ='104'!E25 -> 17000000000 | D25: ='104'!F25 -> 7650000000
B26: Lệ phí trước bạ nhà, đất | C26: ='104'!E26 -> 8500000000 | D26: ='104'!F26 -> 5100000000
B27: Lệ phí trước bạ tài sản khác | C27: ='104'!E27 -> 8500000000 | D27: ='104'!F27 -> 2550000000
A28: - | B28: Thu đấu giá QSD đất | C28: ='104'!E28 -> 441176000000 | D28: ='104'!F28 -> 300000000000
A29: - | B29: Tiền thuê đất, mặt nước | C29: ='104'!E29 -> 0 | D29: ='104'!F29 -> 0
A30: - | B30: Thuế tài nguyên | C30: ='104'!E30 -> 0 | D30: ='104'!F30 -> 0
A31: - | B31: Thu khác NS | C31: ='104'!E31 -> 0 | D31: ='104'!F31 -> 0
A32: III | B32: Thu các khoản huy động, đóng góp | C32: ='104'!E32 -> 0 | D32: ='104'!F32 -> 0
A33: B | B33: THU BỔ SUNG TỪ NS CẤP TRÊN | C33: ='104'!E33 -> 330889000000 | D33: ='104'!F33 -> 330889000000
A34: - | B34: Bổ sung cân đối | C34: ='104'!E34 -> 265294000000 | D34: ='104'!F34 -> 265294000000
A35: - | B35: Bổ sung có mục tiêu vốn sự nghiệp | C35: ='104'!E35 -> 31445000000 | D35: ='104'!F35 -> 31445000000
A36: - | B36: Bổ sung có mục tiêu để thực hiện các chính sách an sinh xã hội năm 2026 từ nguồn cải cách tiền lương ngân sách cấp tỉnh | C36: ='104'!E36 -> 34150000000 | D36: ='104'!F36 -> 34150000000
A37: C | B37: THU CHUYỂN NGUỒN | C37: ='104'!E37 -> 0 | D37: ='104'!F37 -> 0
A38: D | B38: THU KẾT DƯ NGÂN SÁCH | C38: ='104'!E38 -> 0 | D38: ='104'!F38 -> 0

Sheet 110
A1: UBND XÃ KHOÁI CHÂU | D1: Biểu số 110/CK TC-NSNN
A2: DỰ TOÁN CHI NGÂN SÁCH XÃ NĂM 2026
A3: (Kèm theo quyết định số 2698/QĐ-UBND ngày 29/12/2025 Của UBND xã Khoái Châu)
D4: Đơn vị: đồng
A5: STT | B5: NỘI DUNG | C5: DỰ TOÁN NĂM 2026
C6: TỔNG SỐ | D6: ĐTPT | E6: CHI TX
A7: A | B7: B | C7: 1 | D7: 2 | E7: 3
B8: TỔNG CHI | C8: ='105'!F8 -> 653819000000 | D8: ='105'!G8 -> 300000000000 | E8: ='105'!H8 -> 353819000000
A9: I | B9: Chi đầu tư phát triển | C9: ='105'!F9 -> 300000000000 | D9: ='105'!G9 -> 300000000000 | E9: ='105'!H9 -> 0
A10: II | B10: Chi thường xuyên | C10: ='105'!F10 -> 280554000000 | D10: ='105'!G10 -> 0 | E10: ='105'!H10 -> 280554000000
A11: 1 | B11: Chi Quốc phòng | C11: ='105'!F11 -> 936301200 | D11: ='105'!G11 -> 0 | E11: ='105'!H11 -> 936301200
A12: 2 | B12: Chi an ninh và trật tự an toàn xã hội | C12: ='105'!F12 -> 171000000 | D12: ='105'!G12 -> 0 | E12: ='105'!H12 -> 171000000
A13: 3 | B13: Chi sự nghiệp giáo dục - đào tạo và dạy nghề | C13: ='105'!F13 -> 151717000000 | E13: ='105'!H13 -> 151717000000
A14: 3.1 | B14: Giáo dục | C14: ='105'!F14 -> 151025000000 | E14: ='105'!H14 -> 151025000000
A15: 3.2 | B15: Trung tâm chính trị Khoái Châu | C15: ='105'!F15 -> 692000000 | E15: ='105'!H15 -> 692000000
A16: 4 | B16: Sự nghiệp khoa học, công nghệ, đổi mới sáng tạo và chuyển đổi số | C16: ='105'!F16 -> 1295000000 | E16: ='105'!H16 -> 1295000000
A17: 5 | B17: Sự nghiệp y tế, dân số và gia đình | C17: ='105'!F17 -> 20451383200 | E17: ='105'!H17 -> 20451383200
A18: 5.1 | B18: Hỗ trợ mua thẻ BHYT, đóng BHXH tự nguyện cho các đối tượng | C18: ='105'!F18 -> 12043000000 | E18: ='105'!H18 -> 12043000000
A19: 5.2 | B19: Trạm Y tế cấp xã | C19: ='105'!F19 -> 8378383200 | E19: ='105'!H19 -> 8378383200
A20: 5.3 | B20: Chi hoạt động nhiệm vụ chuyên môn (phòng văn hóa) | C20: ='105'!F20 -> 30000000 | E20: ='105'!H20 -> 30000000
A21: 6 | B21: Sự nghiệp văn hóa thông tin, thể dục thể thao, phát thanh, truyền hình | C21: ='105'!F21 -> 1293962000 | E21: ='105'!H21 -> 1293962000
A22: 7 | B22: Sự nghiệp bảo vệ môi trường | C22: ='105'!F22 -> 2294000000 | E22: ='105'!H22 -> 2294000000
A23: 8 | B23: Sự nghiệp bảo đảm xã hội | C23: ='105'!F23 -> 27058653000 | E23: ='105'!H23 -> 27058653000
A24: 9 | B24: Các hoạt động kinh tế | C24: ='105'!F24 -> 4803281200 | E24: ='105'!H24 -> 4803281200
A25: 9.1 | B25: Sự nghiệp giao thông | C25: ='105'!F25 -> 1498000000 | E25: ='105'!H25 -> 1498000000
A26: 9.2 | B26: Sự nghiệp nông nghiệp, khuyến nông, khuyến công, khuyến ngư, khuyến diêm, thủy lợi nội đồng; phòng chống lụt bão, thiên tai, phòng chống dịch bệnh | C26: ='105'!F26 -> 945281200 | E26: ='105'!H26 -> 945281200
A27: 9.3 | B27: Sự nghiệp kiến thiết thị chính, tài nguyên địa chính (gồm cả khảo sát giá đất), sự nghiệp kinh tế khác | C27: ='105'!F27 -> 2110000000 | E27: ='105'!H27 -> 2110000000
A28: 9.4 | B28: Kinh phí hỗ trợ hoạt động bảo vệ đất trồng lúa theo Nghị quyết số 775/2025/NQ-HĐND của HĐND tỉnh | C28: ='105'!F28 -> 250000000 | E28: ='105'!H28 -> 250000000
A29: 10 | B29: Quản lý hành chính nhà nước, đảng, đoàn thể | C29: ='105'!F29 -> 40545419400 | E29: ='105'!H29 -> 40545419400
A30: 10.1 | B30: Quản lý nhà nước | C30: ='105'!F30 -> 17752660400 | E30: ='105'!H30 -> 17752660400
A31: * | B31: Văn phòng HĐND-UBND | C31: ='105'!F31 -> 10014660400 | E31: ='105'!H31 -> 10014660400
A32: * | B32: Quỹ tiền lương, thưởng, phụ cấp, hoạt động phòng Kinh tế | C32: ='105'!F32 -> 2922400000 | E32: ='105'!H32 -> 2922400000
A33: * | B33: Quỹ tiền lương, thưởng, phụ cấp, hoạt động phòng Văn hóa | C33: ='105'!F33 -> 2649200000 | E33: ='105'!H33 -> 2649200000
A34: * | B34: Trung tâm hành chính công | C34: ='105'!F34 -> 2166400000 | E34: ='105'!H34 -> 2166400000
A35: 10.2 | B35: Hội đồng nhân dân | C35: ='105'!F35 -> 1466000000 | E35: ='105'!H35 -> 1466000000
A36: 10.3 | B36: Đảng | C36: ='105'!F36 -> 12802000000 | E36: ='105'!H36 -> 12802000000
A37: 10.4 | B37: MTTQ, các tổ chức chính trị - xã hội | C37: ='105'!F37 -> 7359000000 | E37: ='105'!H37 -> 7359000000
A38: * | B38: Mặt trận tổ quốc | C38: ='105'!F38 -> 5093169000 | E38: ='105'!H38 -> 5093169000
A39: * | B39: Đoàn Thanh niên | C39: ='105'!F39 -> 634104000 | E39: ='105'!H39 -> 634104000
A40: * | B40: Hội Phụ nữ | C40: ='105'!F40 -> 544104000 | E40: ='105'!H40 -> 544104000
...

Sheet 111
B1: UBND XÃ KHOÁI CHÂU | H1: Biểu số 111/CK TC-NSNN
B2: DỰ TOÁN CHI ĐẦU TƯ PHÁT TRIỂN NĂM 2026
B3: (Kèm theo quyết định số 2698/QĐ-UBND ngày 29/12/2025 Của UBND xã Khoái Châu)
H4: Đơn vị: đồng
B5: Tên công trình | C5: Thời gian khởi công - hoàn thành | D5: Tổng dự toán được duyệt | F5: Giá trị thực hiện đến 31/12/2025 | G5: Giá trị đã thanh toán đến 31/12/2025 | H5: Dự toán năm 2026
D6: Tổng số | E6: Trong đó nguồn đóng góp của dân | H6: Tổng số | I6: Trong đó thanh toán khối lương năm trước | J6: Chia theo nguồn vốn
J7: Nguồn cân đối ngân sách | K7: Nguồn đóng góp
B8: TỔNG SỐ | D8: =D9+D38 -> 995184000000 | H8: =H9+H38 -> 300000000000 | I8: =I9+I38 -> 0 | J8: =J9+J38 -> 300000000000
A9: I | B9: Dự án hoàn thành | D9: =SUM(D10:D37) -> 155431000000 | H9: =SUM(H10:H37) -> 35844000000 | I9: =SUM(I10:I37) -> 0 | J9: =SUM(J10:J37) -> 35844000000
A10: 1 | B10: Xây dựng trụ sở làm việc công an xã Liên Khê, huyện Khoái Châu | C10: 2023-2025 | D10: 14950000000 | H10: =J10 -> 4300000000 | J10: 4300000000
A11: 2 | B11: Cải tạo, nâng cấp đường GTNT xã Đông Kết ( đoạn từ ngã tư ông Lợi thôn Đông Kết đi xóm 5 thôn Trung Châu) | C11: 2024-2025 | D11: 13500000000 | H11: =J11 -> 2000000000 | J11: 2000000000
A12: 3 | B12: Nâng cấp đường và xây mới kênh tiêu thoát nước đoạn từ nhà Oanh Lượng thôn Trung Châu đi KT12 | C12: 2024 | D12: 5000000000 | H12: =J12 -> 1000000000 | J12: 1000000000
A13: 4 | B13: Sửa chữa đường giao thông nội đồng đoạn Đồng Rùa từ KT14 thôn Lạc Thủy đi ruộng xóm 15 thôn Đông Kết | C13: 2024-2025 | D13: 650000000 | H13: =J13 -> 150000000 | J13: 150000000
A14: 5 | B14: CTNC một số tuyến đường GTNT xã Đông Kết, đoạn 1 từ ruộng nhà ông Ninh đến trục đường trục xóm 22 thôn Hồng Thái, đoạn 2 từ ruộng ông Khương đến đường trục thôn Đi Kênh tây và thôn Hồng Thái, đoạn 3 cải tạo rãnh nước khu gốc đa đường 383 dọc theo chiều dài nhà ông Doanh) | C14: 2025 | D14: 500000000 | H14: =J14 -> 450000000 | J14: 450000000
A15: 6 | B15: Duy tu, sửa chữa đường GTNĐ thôn Kênh Hạ, xã Liên Khê, đoạn từ cống tiêu Mào Gà đi ruộng ông Tài | C15: 2025 | D15: 1500000000 | H15: =J15 -> 700000000 | J15: 700000000
A16: 7 | B16: Duy tu, sửa chữa đường nội đồng xã Đông Kết đoạn KT14 Đồng Sống đi Cừ Liên Khê thôn Lạc Thuỷ | C16: 2024-2025 | D16: 1300000000 | H16: =J16 -> 500000000 | J16: 500000000
A17: 8 | B17: Duy tu, sửa chữa đường GTNĐ đoạn từ trục thôn Lạc Thuỷ ruộng Đồng Bói đi cử Liên Khê và ao công điền thôn Lạc Thuỷ xã Đông Kết | C17: 2024-2025 | D17: 7300000000 | H17: =J17 -> 30000000 | J17: 30000000
A18: 9 | B18: Sửa chữa NVH phùng Hưng | C18: 2023 | D18: 700000000 | H18: =J18 -> 665000000 | J18: 665000000
A19: 10 | B19: Nhà vệ sinh trường THCS Phùng Hưng | C19: 2022-2023 | D19: 1197000000 | H19: =J19 -> 800000000 | J19: 800000000
A20: 11 | B20: Nhà truyền thống trường THCS xã Phùng Hưng | C20: 2023 | D20: 2000000000 | H20: =J20 -> 1100000000 | J20: 1100000000
A21: 12 | B21: Đầu tư xây dựng cầu vào thôn Tiểu Quan, xã Phùng Hưng | C21: 2022-2024 | D21: 12585000000 | H21: =J21 -> 2185000000 | J21: 2185000000
A22: 13 | B22: Đầu tư xây dựng cầu thôn Kim Quan xã Phùng Hưng | C22: 2022-2024 | D22: 11931000000 | H22: =J22 -> 1086000000 | J22: 1086000000
A23: 14 | B23: Cải tạo, nâng cấp tuyến đường giao thông nội đồng đường Đỗi Đá xóm Trầm, thôn Tiểu Quan, xã Phùng Hưng | C23: 2024 | D23: 900000000 | H23: =J23 -> 344000000 | J23: 344000000
A24: 15 | B24: Cải tạo, nâng cấp tuyến đường giao thông nội đồng đoạn nối từ đường Vành Khanh đến đường bờ máng Xóm Trại, thôn Thị Tứ, xã Phùng Hưng | C24: 2024 | D24: 9000000000 | H24: =J24 -> 855000000 | J24: 855000000
A25: 16 | B25: Cải tạo, nâng cấp đường GTNT xã Phùng Hưng (Đoạn từ nhà cụ Lê Tiến Xưong đến nhà ông Mạnh; Tuyến đường Đỗi Nhội, đoạn từ nhà ông bà Kha Quế đến ĐT.384; Đoạn từ giếng xóm 1 đến bờ máng kênh đông) | C25: 2023-2024 | D25: 12488000000 | H25: =J25 -> 5495000000 | J25: 5495000000
A26: 17 | B26: Cải tạo, nâng cấp đường GTNT xã Phùng Hưng (Đoạn từ cổng chợ Tiểu Quan đến nhà Thụ Đóa; Đoạn từ nhà ông Thụy đến trường mầm non xóm 4; Đoạn từ đình làng Tiểu Quan đi bờ máng Kênh Đông Xóm 4) | C26: 2023-2024 | D26: 13500000000 | H26: =J26 -> 6200000000 | J26: 6200000000
A27: 18 | B27: Sửa chữa đường giao thông nội đồng xã Phùng Hưng (tuyến đường máng hai thôn Ngọc Nha Hạ điểm đầu bờ máng kênh Đông điểm cuối Đống Mít) | C27: 2024-2025 | D27: 2219000000 | H27: =J27 -> 800000000 | J27: 800000000
A28: 19 | B28: Sửa chữa đường GT nội đồng xã Phùng Hưng (đoạn từ đường trục Nội Giàn đến Bầu Nam thôn Kim Quan). | C28: 2024-2025 | D28: 1298000000 | H28: =J28 -> 70000000 | J28: 70000000
A29: 20 | B29: Nhà văn hóa thôn An Cảnh xã Bình Kiều | C29: 2023-2024 | D29: 5000000000 | H29: =J29 -> 51000000 | J29: 51000000
A30: 21 | B30: Nhà văn hóa thôn Phú hòa xã Bình Kiều | C30: 2022-2024 | D30: 5000000000 | H30: =J30 -> 2515000000 | J30: 2515000000
A31: 22 | B31: Xây dựng nhà lớp học 3 tầng 14 phòng và các hạng mục phụ trợ Trường Tiểu Học thị trấn Khoái Châu | C31: 2022-2024 | D31: 13376000000 | H31: =J31 -> 1558000000 | J31: 1558000000
A32: 23 | B32: Xây dựng nhà lớp học 2 tầng và các hạng mục phụ trợ trường mầm non Thị Trấn Khoái Châu | C32: 2022-2024 | D32: 12800000000 | H32: =J32 -> 1893000000 | J32: 1893000000
A33: 24 | B33: Cải tạo, nâng cấp đường giao thông nội đồng xã Bình Kiều ( đoạn 1 từ ruộng nhà ông Hưng Phúc đến đầu cầu xóm 3 đội 11 giáp nhà bà Thiệu, đoạn 12 từ đường máng đội 9 hướng ra nghĩa trang) | C33: 2024 | D33: 1172000000 | H33: =J33 -> 11000000 | J33: 11000000
A34: 25 | B34: Cái tạo, nâng cấp dường giao thông nội đồng xã Bình Kiều (đoạn 1 từ ruộng nhà ông Hiệp đến đường ngang đội 7 thôn an Cảnh, đoạn 2 từ ruộng nhà bà Lũy ra đường Sông Mười) | C34: 2024 | D34: 1179000000 | H34: =J34 -> 11000000 | J34: 11000000
A35: 26 | B35: Phá dỡ nhà lớp học 2 tầng 8 phòng trường tiểu học TTKC | C35: 2024-2025 | D35: 350000000 | H35: =J35 -> 3000000 | J35: 3000000
A36: 27 | B36: Cải tạo, nâng cấp đường GTNT xã Bình Kiều ( đoạn từ đầu làng thôn An Cảnh đến nhà ông Tràng Áp lạc thủy xã Đông Kết) | C36: 2018-2020 | D36: 2386000000 | H36: =J36 -> 1056000000 | J36: 1056000000
A37: 28 | B37: Cải tạo, nâng cấp rãnh thoát nước đường giao thông Thị Trấn Khoái châu (đoạn từ nhà ông Đông đến bở ván) | C37: 2023-2025 | D37: 1650000000 | H37: =J37 -> 16000000 | J37: 16000000
A38: II | B38: Dự án chuyển tiếp hoàn thành năm 2026 | D38: =SUM(D39:D98) -> 839753000000 | H38: =SUM(H39:H98) -> 264156000000 | I38: =SUM(I39:I98) -> 0 | J38: =SUM(J39:J98) -> 264156000000
A39: 1 | B39: Xây dựng nhà 3 tầng 12 phòng học và một số hạng mục phụ trợ trường THCS Đông Kết | C39: 2022-2025 | D39: 25000000000 | H39: =J39 -> 2000000000 | J39: 2000000000
A40: 2 | B40: Cải tạo nâng cấp đường GTNT xã Liên Khê ( đoạn 2 từ dốc Kênh đi cống Mốc đá đường ĐH 59) | C40: 2024-2025 | D40: 13000000000 | H40: =J40 -> 2000000000 | J40: 2000000000
...

Sheet 112
A1: UBND XÃ KHOÁI CHÂU | D1: Biểu số 112/CK TC-NSNN
A2: KẾ HOẠCH THU, CHI CÁC HOẠT ĐỘNG TÀI CHÍNH KHÁC NĂM 2026
A3: (Kèm theo quyết định số 2698/QĐ-UBND ngày 29/12/2025 Của UBND xã Khoái Châu)
D4: Đơn vị: đồng
A5: NỘI DUNG | B5: KẾ HOẠCH NĂM TRƯỚC | E5: KẾ HOẠCH NĂM 2026
B6: THU | C6: CHI | D6: CHÊNH LỆCH | E6: THU | F6: CHI | G6: CHÊNH LỆCH
A7: TỔNG SỐ | B7: =B8 -> 0 | C7: =C8 -> 0 | D7: =D8 -> 0 | E7: =E8 -> 0 | F7: =F8 -> 0 | G7: =G8 -> 0
A8: Quỹ Phòng chống thiên tai
A9: Quỹ vì người nghèo

Sheet Sheet1
